BEGIN:VCALENDAR
VERSION:2.0
PRODID:-//hacksw/handcal//NONSGML v1.0//EN
BEGIN:VEVENT
SUMMARY:concours beursault a Alencon
UID:ff9493eb-f7e6-4980-a8ba-24dac42e59ef
DTSTART:20260828T220000Z
DTEND:20260829T220000Z
LOCATION:Localisation   
CATEGORIES:Sportif
STATUS:
URL;VALUE=URI:https://www.archers-alm-evreux.com/evenements/2026/08/29/concours-beursault-a-alencon-2429724
END:VEVENT
END:VCALENDAR
