BEGIN:VCALENDAR
VERSION:2.0
PRODID:-//hacksw/handcal//NONSGML v1.0//EN
BEGIN:VEVENT
SUMMARY:concours TAE a Banvou
UID:42ce1487-2efd-4060-8d96-47c85750cd13
DTSTART:20260821T220000Z
DTEND:20260822T220000Z
LOCATION:Localisation   
CATEGORIES:Sportif
STATUS:
URL;VALUE=URI:https://www.archers-alm-evreux.com/evenements/2026/08/22/concours-tae-a-banvou-2440517
END:VEVENT
END:VCALENDAR
