BEGIN:VCALENDAR
VERSION:2.0
PRODID:-//hacksw/handcal//NONSGML v1.0//EN
BEGIN:VEVENT
SUMMARY:concours beursault a Alencon
UID:3f2d219f-297b-4ef8-b60e-bc164ddedb92
DTSTART:20260717T220000Z
DTEND:20260718T220000Z
LOCATION:Localisation   
CATEGORIES:Sportif
STATUS:
URL;VALUE=URI:https://www.archers-alm-evreux.com/evenements/2026/07/18/concours-beursault-a-alencon-2429723
END:VEVENT
END:VCALENDAR
