BEGIN:VCALENDAR
VERSION:2.0
PRODID:-//hacksw/handcal//NONSGML v1.0//EN
BEGIN:VEVENT
SUMMARY:concours TAE a Banvou
UID:8970a45b-b04c-48ee-b6c4-892485b4d872
DTSTART:20260710T220000Z
DTEND:20260711T220000Z
LOCATION:Localisation   
CATEGORIES:Sportif
STATUS:
URL;VALUE=URI:https://www.archers-alm-evreux.com/evenements/2026/07/11/concours-tae-a-banvou-2440514
END:VEVENT
END:VCALENDAR
