BEGIN:VCALENDAR
VERSION:2.0
PRODID:-//hacksw/handcal//NONSGML v1.0//EN
BEGIN:VEVENT
SUMMARY:concours beursault a Alencon
UID:d65ad510-ed78-479c-b04f-6cd6d2b4f0f5
DTSTART:20260619T220000Z
DTEND:20260620T220000Z
LOCATION:Localisation   
CATEGORIES:Sportif
STATUS:
URL;VALUE=URI:https://www.archers-alm-evreux.com/evenements/2026/06/20/concours-beursault-a-alencon-2429722
END:VEVENT
END:VCALENDAR
