BEGIN:VCALENDAR
VERSION:2.0
PRODID:-//hacksw/handcal//NONSGML v1.0//EN
BEGIN:VEVENT
SUMMARY:concours TAE a Vernon
UID:ab7b403d-4fac-44e3-a51b-9738c8ec061c
DTSTART:20260612T220000Z
DTEND:20260613T220000Z
LOCATION:Localisation   
CATEGORIES:Sportif
STATUS:
URL;VALUE=URI:https://www.archers-alm-evreux.com/evenements/2026/06/13/concours-tae-a-vernon-2427417
END:VEVENT
END:VCALENDAR
