BEGIN:VCALENDAR
VERSION:2.0
PRODID:-//hacksw/handcal//NONSGML v1.0//EN
BEGIN:VEVENT
SUMMARY:concours TAE a Alencon
UID:53d03b3f-5a3e-4794-807c-f6de6f583efa
DTSTART:20260606T220000Z
DTEND:20260607T220000Z
LOCATION:Localisation   
CATEGORIES:Sportif
STATUS:
URL;VALUE=URI:https://www.archers-alm-evreux.com/evenements/2026/06/07/concours-tae-a-alencon-2435627
END:VEVENT
END:VCALENDAR
