BEGIN:VCALENDAR
VERSION:2.0
PRODID:-//hacksw/handcal//NONSGML v1.0//EN
BEGIN:VEVENT
SUMMARY:concours TEA a Vernon
UID:03c71af3-a5ea-4dbe-a92c-4e380f1e4161
DTSTART:20260529T220000Z
DTEND:20260530T220000Z
LOCATION:Localisation   
CATEGORIES:Sportif
STATUS:
URL;VALUE=URI:https://www.archers-alm-evreux.com/evenements/2026/05/30/concours-tea-a-vernon-2427416
END:VEVENT
END:VCALENDAR
