BEGIN:VCALENDAR
VERSION:2.0
PRODID:-//hacksw/handcal//NONSGML v1.0//EN
BEGIN:VEVENT
SUMMARY:concours beursault a Alencon
UID:fc285178-5fcf-4fe7-b334-e9d5f44b172a
DTSTART:20260523T220000Z
DTEND:20260524T220000Z
LOCATION:Localisation   
CATEGORIES:Sportif
STATUS:
URL;VALUE=URI:https://www.archers-alm-evreux.com/evenements/2026/05/24/concours-beursault-a-alencon-2429721
END:VEVENT
END:VCALENDAR
