BEGIN:VCALENDAR
VERSION:2.0
PRODID:-//hacksw/handcal//NONSGML v1.0//EN
BEGIN:VEVENT
SUMMARY:concours TAE a Vieux Rouen sur Bresle
UID:741c11d3-c01c-41d1-aeb7-05d428a6626a
DTSTART:20260509T220000Z
DTEND:20260510T220000Z
LOCATION:Localisation   
CATEGORIES:Sportif
STATUS:
URL;VALUE=URI:https://www.archers-alm-evreux.com/evenements/2026/05/10/concours-tae-a-vieux-rouen-sur-bresle-2432865
END:VEVENT
END:VCALENDAR
