BEGIN:VCALENDAR
VERSION:2.0
PRODID:-//hacksw/handcal//NONSGML v1.0//EN
BEGIN:VEVENT
SUMMARY:concours nature a Rouen
UID:f0142a99-96cb-44eb-b40b-065e4a109848
DTSTART:20260502T220000Z
DTEND:20260503T220000Z
LOCATION:Localisation   
CATEGORIES:Sportif
STATUS:
URL;VALUE=URI:https://www.archers-alm-evreux.com/evenements/2026/05/03/concours-nature-a-rouen-2439100
END:VEVENT
END:VCALENDAR
