BEGIN:VCALENDAR
VERSION:2.0
PRODID:-//hacksw/handcal//NONSGML v1.0//EN
BEGIN:VEVENT
SUMMARY:concours TAE a Bourneville sainte croix
UID:4c73c5ec-9780-41bc-a484-b5c14fa5f00f
DTSTART:20260501T220000Z
DTEND:20260503T220000Z
LOCATION:Localisation   
CATEGORIES:Sportif
STATUS:
URL;VALUE=URI:https://www.archers-alm-evreux.com/evenements/2026/05/02/concours-tae-a-bourneville-sainte-croix-2435625
END:VEVENT
END:VCALENDAR
