BEGIN:VCALENDAR
VERSION:2.0
PRODID:-//hacksw/handcal//NONSGML v1.0//EN
BEGIN:VEVENT
SUMMARY:concours 3D a Le Mans
UID:e2195292-802b-4697-a637-07519ed79595
DTSTART:20260501T220000Z
DTEND:20260503T220000Z
LOCATION:Localisation   
CATEGORIES:Sportif
STATUS:
URL;VALUE=URI:https://www.archers-alm-evreux.com/evenements/2026/05/02/concours-3d-a-le-mans-2435630
END:VEVENT
END:VCALENDAR
