BEGIN:VCALENDAR
VERSION:2.0
PRODID:-//hacksw/handcal//NONSGML v1.0//EN
BEGIN:VEVENT
SUMMARY:tir du Roy de France a Vic sur Aisne
UID:daa47476-7578-436f-b41f-3e8e7b789dbe
DTSTART:20260430T220000Z
DTEND:20260501T220000Z
LOCATION:Localisation   
CATEGORIES:Sportif
STATUS:
URL;VALUE=URI:https://www.archers-alm-evreux.com/evenements/2026/05/01/tir-du-roy-de-france-a-vic-sur-aisne-2436554
END:VEVENT
END:VCALENDAR
